BEGIN:VCALENDAR
VERSION:2.0
PRODID:-//EFB Salon Supplies - Absolute Spa - ECPv6.2.4//NONSGML v1.0//EN
CALSCALE:GREGORIAN
METHOD:PUBLISH
X-WR-CALNAME:EFB Salon Supplies - Absolute Spa
X-ORIGINAL-URL:https://www.efbdirect.com.au/shop
X-WR-CALDESC:Events for EFB Salon Supplies - Absolute Spa
REFRESH-INTERVAL;VALUE=DURATION:PT1H
X-Robots-Tag:noindex
X-PUBLISHED-TTL:PT1H
BEGIN:VTIMEZONE
TZID:Australia/Melbourne
BEGIN:STANDARD
TZOFFSETFROM:+1100
TZOFFSETTO:+1000
TZNAME:AEST
DTSTART:20230401T160000
END:STANDARD
BEGIN:DAYLIGHT
TZOFFSETFROM:+1000
TZOFFSETTO:+1100
TZNAME:AEDT
DTSTART:20230930T160000
END:DAYLIGHT
END:VTIMEZONE
BEGIN:VEVENT
DTSTART;TZID=Australia/Melbourne:20231030T093000
DTEND;TZID=Australia/Melbourne:20231031T170000
DTSTAMP:20260421T225705
CREATED:20230519T035050Z
LAST-MODIFIED:20230519T041042Z
UID:69965-1698658200-1698771600@www.efbdirect.com.au
SUMMARY:Elleebana Volume Lash Extensions Training
DESCRIPTION:COURSE OVERVIEW\n\nFor two decades Elleebana has been recognised among the industry leaders in eyelash perming\, lash lifting\, colouring and shaping and in more recent years offering comprehensive Beginner’s Lash Extensions and Advanced Lash courses.\nIt is with this experience and know-how that we proudly bring you the Elleebana Lash Extensions Beginner’s Volume Course.\nThis course is suited to the intermediate or experienced Classic Lash Extensions Technician and teaches the student the art of Russian Volume eyelash extensions\, which shows techniques on how to create more volume by adding multiple eyelash extensions to one natural lash\, giving your client a fuller and more dramatic set of eyelash extensions.\nThe art of volume eyelash extensions requires practice and is very specialised\, but once you master the application and techniques many clients prefer having volume extensions compared to classic extensions.\nThis course is run over two consecutive days and includes product to the value of $435\, a comprehensive and incredible Instruction Manual and each attendee receives a certificate of completion.\nStudents are required to provide two models (one on each day).\nStudents should have a minimum 6 months experience of classic lash extensions application. \n*We reserve the right to withhold your certificate until competency has been achieved. \n\n\n\nCOURSE PRICE\n\n$1100 Inclusive of GST \n$150 non-refundable booking fee applies and is included in the above-mentioned price and full payment is required to secure your position at a class. \n\n\n\nCOURSE KIT INCLUSIONS\n\n• Elleebana Beginners Volume Manual\n• Certificate of completion in volume eyelash extensions\n• Elleebana Volume Eyelash Extensions Kit containing:\n• Elleebana Ultra Bond x 5ml adhesive\n• B 0.07 mixed tray\n• C 0.07 mixed tray\n• D 0.07 mixed tray\n• C 0.05 mixed tray\n• Jade stone\n• Eye pads\n• Elleebana Makeup Remover & Cleanser 30ml\n• Squeeze bottle – use with cleanser 10ml\n• Doe foot applicators (50pk)\n• Primer\n• Adhesive remover\n• Mascara wands\n• L-type tweezer\n• Pro angle CVD tweezers\n• I-type tweezers\n• Micro-brushes\n• Micropore tape\n• Bag\n• Lash palette \n\n\n\nWant more information? Fill Out The Form Below 
URL:https://www.efbdirect.com.au/shop/event/elleebana-volume-lash-extensions-training-5/
LOCATION:EFB Salon Supplies / Absolute Spa Training Room #1\, 112 Northgate Dr\, Thomastown\, vic\, 3074\, Australia
CATEGORIES:Lash Extensions
ATTACH;FMTTYPE=image/jpeg:https://www.efbdirect.com.au/shop/wp-content/uploads/2023/05/TRAINING_BANNERS_ELLEEBANA_VLE.jpg
END:VEVENT
END:VCALENDAR