BEGIN:VCALENDAR
VERSION:2.0
PRODID:-//EFB Salon Supplies - Absolute Spa - ECPv6.2.4//NONSGML v1.0//EN
CALSCALE:GREGORIAN
METHOD:PUBLISH
X-ORIGINAL-URL:https://www.efbdirect.com.au/shop
X-WR-CALDESC:Events for EFB Salon Supplies - Absolute Spa
REFRESH-INTERVAL;VALUE=DURATION:PT1H
X-Robots-Tag:noindex
X-PUBLISHED-TTL:PT1H
BEGIN:VTIMEZONE
TZID:Australia/Melbourne
BEGIN:STANDARD
TZOFFSETFROM:+1100
TZOFFSETTO:+1000
TZNAME:AEST
DTSTART:20190406T160000
END:STANDARD
BEGIN:DAYLIGHT
TZOFFSETFROM:+1000
TZOFFSETTO:+1100
TZNAME:AEDT
DTSTART:20191005T160000
END:DAYLIGHT
END:VTIMEZONE
BEGIN:VEVENT
DTSTART;TZID=Australia/Melbourne:20190909T100000
DTEND;TZID=Australia/Melbourne:20190909T120000
DTSTAMP:20260425T223541
CREATED:20190808T011255Z
LAST-MODIFIED:20190808T011348Z
UID:37606-1568023200-1568030400@www.efbdirect.com.au
SUMMARY:Le Marque Brow Henna - Watch & Learn
DESCRIPTION:Click Here To Book Your Place
URL:https://www.efbdirect.com.au/shop/event/le-marque-brow-henna-watch-learn/
LOCATION:EFB Salon Supplies / Absolute Spa Training Room #2\, 112 Northgate Dr\, Thomastown\, vic\, 3074\, Australia
CATEGORIES:Henna Brows
ATTACH;FMTTYPE=image/png:https://www.efbdirect.com.au/shop/wp-content/uploads/2019/08/PJPcEhUPTLyKyT0rlvnw_EFB_Sep8.png
END:VEVENT
END:VCALENDAR