BEGIN:VCALENDAR
VERSION:2.0
PRODID:-//EFB Salon Supplies - Absolute Spa - ECPv6.2.4//NONSGML v1.0//EN
CALSCALE:GREGORIAN
METHOD:PUBLISH
X-ORIGINAL-URL:https://www.efbdirect.com.au/shop
X-WR-CALDESC:Events for EFB Salon Supplies - Absolute Spa
REFRESH-INTERVAL;VALUE=DURATION:PT1H
X-Robots-Tag:noindex
X-PUBLISHED-TTL:PT1H
BEGIN:VTIMEZONE
TZID:Australia/Melbourne
BEGIN:STANDARD
TZOFFSETFROM:+1100
TZOFFSETTO:+1000
TZNAME:AEST
DTSTART:20190406T160000
END:STANDARD
BEGIN:DAYLIGHT
TZOFFSETFROM:+1000
TZOFFSETTO:+1100
TZNAME:AEDT
DTSTART:20191005T160000
END:DAYLIGHT
END:VTIMEZONE
BEGIN:VEVENT
DTSTART;TZID=Australia/Melbourne:20190902T093000
DTEND;TZID=Australia/Melbourne:20190902T163000
DTSTAMP:20260425T223317
CREATED:20190611T051407Z
LAST-MODIFIED:20190611T051407Z
UID:33296-1567416600-1567441800@www.efbdirect.com.au
SUMMARY:Elleebana Lash Lift Evolved Training
DESCRIPTION:Lash Lift Class runs from 9.30 – 4.30 (please note the class may finish early depending on amount of students in the class). A model is required at 12.15pm. It is your responsibility to find your own model\, however if you are struggling please let us know no later than 1 week before the class is running. We cannot guarantee to find you a model.\nThe class is $320 and includes the kit\, training workbook and posters/marketing flyers.\n\nThe kit includes:\n\n\n30 perm & 30 neutraliser sachets\nCombo pack of Silicone Rods\nLash Perming Glue\nBelma Remove\nApplication brush\nStainless steel lash lifter\nCollagen Eye Pads\nMicroBrushes\n\n\n\nThe class overview is as follows:\n\n\nEye and Eyelash anatomy and structure\nBusiness and room set up\nHealth\, safety and sanitation – for your clients and for yourself\nPre-procedure preparations and contra-indications\nProduct information and usage and storage guides for the products\nConsultation and the importance of indemnity and legal requirements\nPatch testing and tinting with Belmacil lash and brow tints\nCost of treatment and income potential\nDetailed procedure\nHomecare advise\nWhen things go wrong – and how to fix them\nFrequently asked questions\nCase Study submissions\nCriteria Checklist form\n\nClick here for a quick link to our online store to reserve your place
URL:https://www.efbdirect.com.au/shop/event/elleebana-lash-lift-evolved-training/
LOCATION:EFB Salon Supplies / Absolute Spa Training Room #2\, 112 Northgate Dr\, Thomastown\, vic\, 3074\, Australia
CATEGORIES:Lash Lift
ATTACH;FMTTYPE=image/png:https://www.efbdirect.com.au/shop/wp-content/uploads/2019/05/YofY3YoMS6yZoquuKVMP_Screen_Shot_2018-09-20_at_1.57.35_pm.png
END:VEVENT
END:VCALENDAR