BEGIN:VCALENDAR
VERSION:2.0
PRODID:-//EFB Salon Supplies - Absolute Spa - ECPv6.2.4//NONSGML v1.0//EN
CALSCALE:GREGORIAN
METHOD:PUBLISH
X-ORIGINAL-URL:https://www.efbdirect.com.au/shop
X-WR-CALDESC:Events for EFB Salon Supplies - Absolute Spa
REFRESH-INTERVAL;VALUE=DURATION:PT1H
X-Robots-Tag:noindex
X-PUBLISHED-TTL:PT1H
BEGIN:VTIMEZONE
TZID:Australia/Melbourne
BEGIN:STANDARD
TZOFFSETFROM:+1100
TZOFFSETTO:+1000
TZNAME:AEST
DTSTART:20230401T160000
END:STANDARD
BEGIN:DAYLIGHT
TZOFFSETFROM:+1000
TZOFFSETTO:+1100
TZNAME:AEDT
DTSTART:20230930T160000
END:DAYLIGHT
END:VTIMEZONE
BEGIN:VEVENT
DTSTART;TZID=Australia/Melbourne:20230918T093000
DTEND;TZID=Australia/Melbourne:20230918T163000
DTSTAMP:20260422T002312
CREATED:20230519T030106Z
LAST-MODIFIED:20230519T040948Z
UID:69935-1695029400-1695054600@www.efbdirect.com.au
SUMMARY:Elleebana Lash Lift Training
DESCRIPTION:COURSE OVERVIEW\n\n\n\n\n\nWelcome to the world of multi award winning Elleebana Lash Lift education. Elleebana is the world’s most popular lash lift and lamination system\, globally recognised and trusted by leading experts in over 60 countries. Our education program has been crafted by our award winning team\, bringing you over 20 years combined experience in the lash and brow industry. Otto Mitter\, managing director of Elleebana is a regular speaker and competition judge on the global circuit for eyelash extensions and lift/lamination competitions\, conferences and exhibitions. At Elleebana we thrive on sharing our experience and expertise with our students and over the years Elleebana has helped to create the next generation of beauty influencers and leaders in the lash industry.\nYou are guided through the cost and income potential of lash lifting to build your marketability. Our hand selected trainer will then demonstrate to you a lash lift in detail – we take our time walking through the treatment step by step and showcasing the common mistakes made and how to correct these errors to ensure your results are flawless and to build your confidence.\nYou will then work on a model under the careful guidance and instruction of our trainer paying close attention to the key elements of lash lifting. No longer can you expect a one day class with Elleebana as your course\, knowledge retention and applying your new found skills will continue through your online component of this educational program.  The online component will be comprised of an exam and submission of before and after images for assessment after your training date to further ensure you have been able to retain and apply your new found skills. \n\n\n\nCOURSE PRICE\n\n$400 Inclusive of GST \n$150 non-refundable booking fee applies and is included in the above-mentioned price and full payment is required to secure your position at a class. \n\n\n\nCOURSE INCLUSIONS\n\nA Full sized lash lifting kit valued at $170 with a minimum of 30 applications. You also receive a pack of eye pads valued at $12\, and a pack of micro brushes valued at $21.95\, instructional copyrighted manual\, criteria checklist\, students exam\, access to promotional flyers file\, promotional images and a posters for printing and a certificate upon submission of a minimum of 5 before and after images that are successful. \n\nWant more information? Fill Out The Form Below 
URL:https://www.efbdirect.com.au/shop/event/elleebana-lash-lift-training-8/
LOCATION:EFB Salon Supplies / Absolute Spa Training Room #1\, 112 Northgate Dr\, Thomastown\, vic\, 3074\, Australia
CATEGORIES:Lash Lift
ATTACH;FMTTYPE=image/jpeg:https://www.efbdirect.com.au/shop/wp-content/uploads/2023/05/TRAINING_BANNERS_ELLEEBANA_LASHLIFT.jpg
END:VEVENT
BEGIN:VEVENT
DTSTART;TZID=Australia/Melbourne:20230919T093000
DTEND;TZID=Australia/Melbourne:20230919T163000
DTSTAMP:20260422T002312
CREATED:20230519T033114Z
LAST-MODIFIED:20230519T040953Z
UID:69955-1695115800-1695141000@www.efbdirect.com.au
SUMMARY:Elleebana Classic Lash Extensions Training
DESCRIPTION:COURSE OVERVIEW\n\nElleebana’s Classic Lash Extensions – Foundation Course arms you with excellent fundamental core lashing skills. Our class is designed to deliver the essential techniques for safe applications of lash extensions as we guide you from your first day of training physically and then into your assessment and further supportive video links virtually. Our theory session commences with the elements required to give you a firm foundation and understanding of what is required for you to begin offering safe classic lash extensions applications. \nYou are guided through mannequin applications first to help build your confidence\, co-ordination\, hone in on your glue control and lash direction then our handpicked and passionate trainers follow you\, support you and aide you while you begin your first lashing experience on your live model. \nUpon completion of your first day\, you are required to know and demonstrate all techniques from our criteria form and are tested on your knowledge retention with a quiz. \nOur additional educational online portal access then provides you with a further 2.5+ hours of instructional video\, supportive techniques and revision of your learning content included within the 31 break out units from the Elleebana Excellence Academy to allow your learning to develop along with your skills. \nWe then ask you to practise your new found skills and submit your before and after images for assessment and careful guidance before you are issued your certificate. \n\n\n\nCOURSE PRICE\n\n$550 Inclusive of GST \n$150 non-refundable booking fee applies and is included in the above-mentioned price and full payment is required to secure your position at a class \n  \n\n\n\nCOURSE INCLUSIONS\n\nFull sized Elleebana Lash Extensions Kit valued at $450. Over 9000 lash extensions in curls\, lengths and thicknesses that you will use. This kit will enable you to offer around 100 applications of lash extensions (with the exception of the adhesive if this is not used within the expiry). \nYou will also receive an instructional copyrighted manual\, a criteria checklist to review your new found skills and to be assessed on your skills by your trainer\, a fund lash quiz\, access to promotional flyers\, promotional images and a promotional poster all on a virtual file for printing or use on your social pages and finally your certificate upon submission of a minimum of 5 before and after images that are successful. \n\n\nWant more information? Fill Out The Form Below 
URL:https://www.efbdirect.com.au/shop/event/elleebana-classic-lash-extensions-training-8/
LOCATION:EFB Salon Supplies / Absolute Spa Training Room #1\, 112 Northgate Dr\, Thomastown\, vic\, 3074\, Australia
CATEGORIES:Lash Extensions
ATTACH;FMTTYPE=image/jpeg:https://www.efbdirect.com.au/shop/wp-content/uploads/2023/05/TRAINING_BANNERS_ELLEEBANA_CLE.jpg
END:VEVENT
END:VCALENDAR