BEGIN:VCALENDAR
VERSION:2.0
PRODID:-//EFB Salon Supplies - Absolute Spa - ECPv6.2.4//NONSGML v1.0//EN
CALSCALE:GREGORIAN
METHOD:PUBLISH
X-WR-CALNAME:EFB Salon Supplies - Absolute Spa
X-ORIGINAL-URL:https://www.efbdirect.com.au/shop
X-WR-CALDESC:Events for EFB Salon Supplies - Absolute Spa
REFRESH-INTERVAL;VALUE=DURATION:PT1H
X-Robots-Tag:noindex
X-PUBLISHED-TTL:PT1H
BEGIN:VTIMEZONE
TZID:Australia/Melbourne
BEGIN:STANDARD
TZOFFSETFROM:+1100
TZOFFSETTO:+1000
TZNAME:AEST
DTSTART:20230401T160000
END:STANDARD
BEGIN:DAYLIGHT
TZOFFSETFROM:+1000
TZOFFSETTO:+1100
TZNAME:AEDT
DTSTART:20230930T160000
END:DAYLIGHT
END:VTIMEZONE
BEGIN:VEVENT
DTSTART;TZID=Australia/Melbourne:20230801T093000
DTEND;TZID=Australia/Melbourne:20230801T160000
DTSTAMP:20260422T015303
CREATED:20230519T035606Z
LAST-MODIFIED:20230519T040915Z
UID:69967-1690882200-1690905600@www.efbdirect.com.au
SUMMARY:Elleebana Brow Henna Training
DESCRIPTION:COURSE OVERVIEW\n\nThe Elleebana Brow Henna Course has been developed as an introduction to colour craft and brow formation allowing you to create fuller\, thicker and more defined brows for your clients.  Requiring no Hydrogen Peroxide to process and being Ammonia free\, Elleebana’s Brow Henna has been carefully developed to include unique ingredients such as Indigo Powder\, Indian Gooseberry and Acacia Concinna for added lustre and shine and to encourage healthy brow growth. \nOur course is a full-day course\, loaded with comprehensive theory providing myth busting information and in-depth detail of the industry’s hottest topics together and exclusive Elleebana techniques not readily showcased in other training. \nDuring your two (2) guided brow henna applications you will be assessed on your clients skin tone assessments\, hair colour assessments and shape perfecting skills. This application of your understanding to the practical side is a key element in our assessment phase to ensure you leave with the best possible knowledge retention and ability to boost your brow business like never before. \n\n\n\n\nCOURSE PRICE\n\n$550 Inclusive of GST \n\n\n\nCOURSE INCLUSIONS\n\nThis course delivers an array\, up to date information and detailed content for achieving amazing results\, and gaining product and service knowledge\, with the addition of digital DL flyers and after-care flyers to help promote your services. \nStudents will also receive:\n• A Full sized kit valued at $295 – a total of 500 applications (5 colours with approximately 100 applications each) and potential profit of over $22\,500 to a salon from this kit! WOWSERS!!\n• Elleebana Brow Measuring tape (25 pack) and a set of Elleebana Precision Brow Pencils ( 1 x Light Ash Brown\, 1 x Dark Ash Brown\, 1 x Deep Warm Brown).\n• The comprehensive Elleebana Brow Henna education manual and stationery pack.\n• The salon’s details listed on our Salon Finder page on our website as a salon who performs Elleebana Brow Henna treatments to help direct customers your way.\n• Access to our Master Educators for continued support and guidance post course completion.\n• Elleebana Brow Henna Certificate of Completion. \n\nWant more information? Fill Out The Form Below 
URL:https://www.efbdirect.com.au/shop/event/elleebana-brow-henna-training-20/
LOCATION:EFB Salon Supplies / Absolute Spa Training Room #1\, 112 Northgate Dr\, Thomastown\, vic\, 3074\, Australia
CATEGORIES:Henna Brows
ATTACH;FMTTYPE=image/jpeg:https://www.efbdirect.com.au/shop/wp-content/uploads/2023/05/TRAINING_BANNERS_ELLEEBANA_BROWHENNA.jpg
END:VEVENT
BEGIN:VEVENT
DTSTART;TZID=Australia/Melbourne:20230814T093000
DTEND;TZID=Australia/Melbourne:20230814T163000
DTSTAMP:20260422T015303
CREATED:20230519T033023Z
LAST-MODIFIED:20230519T040919Z
UID:69953-1692005400-1692030600@www.efbdirect.com.au
SUMMARY:Elleebana Classic Lash Extensions Training
DESCRIPTION:COURSE OVERVIEW\n\nElleebana’s Classic Lash Extensions – Foundation Course arms you with excellent fundamental core lashing skills. Our class is designed to deliver the essential techniques for safe applications of lash extensions as we guide you from your first day of training physically and then into your assessment and further supportive video links virtually. Our theory session commences with the elements required to give you a firm foundation and understanding of what is required for you to begin offering safe classic lash extensions applications. \nYou are guided through mannequin applications first to help build your confidence\, co-ordination\, hone in on your glue control and lash direction then our handpicked and passionate trainers follow you\, support you and aide you while you begin your first lashing experience on your live model. \nUpon completion of your first day\, you are required to know and demonstrate all techniques from our criteria form and are tested on your knowledge retention with a quiz. \nOur additional educational online portal access then provides you with a further 2.5+ hours of instructional video\, supportive techniques and revision of your learning content included within the 31 break out units from the Elleebana Excellence Academy to allow your learning to develop along with your skills. \nWe then ask you to practise your new found skills and submit your before and after images for assessment and careful guidance before you are issued your certificate. \n\n\n\nCOURSE PRICE\n\n$550 Inclusive of GST \n$150 non-refundable booking fee applies and is included in the above-mentioned price and full payment is required to secure your position at a class \n  \n\n\n\nCOURSE INCLUSIONS\n\nFull sized Elleebana Lash Extensions Kit valued at $450. Over 9000 lash extensions in curls\, lengths and thicknesses that you will use. This kit will enable you to offer around 100 applications of lash extensions (with the exception of the adhesive if this is not used within the expiry). \nYou will also receive an instructional copyrighted manual\, a criteria checklist to review your new found skills and to be assessed on your skills by your trainer\, a fund lash quiz\, access to promotional flyers\, promotional images and a promotional poster all on a virtual file for printing or use on your social pages and finally your certificate upon submission of a minimum of 5 before and after images that are successful. \n\n\nWant more information? Fill Out The Form Below 
URL:https://www.efbdirect.com.au/shop/event/elleebana-classic-lash-extensions-training-7/
LOCATION:EFB Salon Supplies / Absolute Spa Training Room #1\, 112 Northgate Dr\, Thomastown\, vic\, 3074\, Australia
CATEGORIES:Lash Extensions
ATTACH;FMTTYPE=image/jpeg:https://www.efbdirect.com.au/shop/wp-content/uploads/2023/05/TRAINING_BANNERS_ELLEEBANA_CLE.jpg
END:VEVENT
BEGIN:VEVENT
DTSTART;TZID=Australia/Melbourne:20230815T093000
DTEND;TZID=Australia/Melbourne:20230815T163000
DTSTAMP:20260422T015303
CREATED:20230519T030002Z
LAST-MODIFIED:20230519T040923Z
UID:69933-1692091800-1692117000@www.efbdirect.com.au
SUMMARY:Elleebana Lash Lift Training
DESCRIPTION:COURSE OVERVIEW\n\n\n\n\n\nWelcome to the world of multi award winning Elleebana Lash Lift education. Elleebana is the world’s most popular lash lift and lamination system\, globally recognised and trusted by leading experts in over 60 countries. Our education program has been crafted by our award winning team\, bringing you over 20 years combined experience in the lash and brow industry. Otto Mitter\, managing director of Elleebana is a regular speaker and competition judge on the global circuit for eyelash extensions and lift/lamination competitions\, conferences and exhibitions. At Elleebana we thrive on sharing our experience and expertise with our students and over the years Elleebana has helped to create the next generation of beauty influencers and leaders in the lash industry.\nYou are guided through the cost and income potential of lash lifting to build your marketability. Our hand selected trainer will then demonstrate to you a lash lift in detail – we take our time walking through the treatment step by step and showcasing the common mistakes made and how to correct these errors to ensure your results are flawless and to build your confidence.\nYou will then work on a model under the careful guidance and instruction of our trainer paying close attention to the key elements of lash lifting. No longer can you expect a one day class with Elleebana as your course\, knowledge retention and applying your new found skills will continue through your online component of this educational program.  The online component will be comprised of an exam and submission of before and after images for assessment after your training date to further ensure you have been able to retain and apply your new found skills. \n\n\n\nCOURSE PRICE\n\n$400 Inclusive of GST \n$150 non-refundable booking fee applies and is included in the above-mentioned price and full payment is required to secure your position at a class. \n\n\n\nCOURSE INCLUSIONS\n\nA Full sized lash lifting kit valued at $170 with a minimum of 30 applications. You also receive a pack of eye pads valued at $12\, and a pack of micro brushes valued at $21.95\, instructional copyrighted manual\, criteria checklist\, students exam\, access to promotional flyers file\, promotional images and a posters for printing and a certificate upon submission of a minimum of 5 before and after images that are successful. \n\nWant more information? Fill Out The Form Below 
URL:https://www.efbdirect.com.au/shop/event/elleebana-lash-lift-training-7/
LOCATION:EFB Salon Supplies / Absolute Spa Training Room #1\, 112 Northgate Dr\, Thomastown\, vic\, 3074\, Australia
CATEGORIES:Lash Lift
ATTACH;FMTTYPE=image/jpeg:https://www.efbdirect.com.au/shop/wp-content/uploads/2023/05/TRAINING_BANNERS_ELLEEBANA_LASHLIFT.jpg
END:VEVENT
BEGIN:VEVENT
DTSTART;TZID=Australia/Melbourne:20230821T093000
DTEND;TZID=Australia/Melbourne:20230821T163000
DTSTAMP:20260422T015303
CREATED:20230519T031043Z
LAST-MODIFIED:20230519T040927Z
UID:69943-1692610200-1692635400@www.efbdirect.com.au
SUMMARY:Elleebana Brow Lamination Training
DESCRIPTION:COURSE OVERVIEW\n\nBrow Lamination is fast becoming one of the hottest trends in the beauty industry and Elleeplex Profusion is a highly sort after product line due to the quality and benefits of the product.  The brow lamination service gives the appearance of fuller eyebrows that are more easily shaped or corrected into brows that clients LOVE.\nThis course arms you with the detailed concept of brow lamination as well as the hidden tips to mastering your technique to achieve perfect results each and every time. \nOur theory session commences with product knowledge and understanding of the delicate area that you are working with\, contraindications and how to consult for this treatment. \nYou are guided through the cost and income potential of brow lamination to build your marketability. Our hand selected trainer will then demonstrate a brow lamination service – we take our time walking through the treatment step by step and showcasing the common mistakes made and how to correct these errors to ensure your results are flawless and to build your confidence. \nYou will then work on two models under the careful guidance and instruction of our trainer paying close attention to the key elements of brow lamination.  Your day of learning will be summarised with an exam before the at home portion of your learning begins.  Submissions of before and after images for assessment after your training date are required to further ensure you have been able to retain and apply your new found skills with confidence. \n\n\n\nCOURSE PRICE\n\n$450 Inclusive of GST \n$150 non-refundable booking fee applies and is included in the above-mentioned price and full payment is required to secure your position at a class. \n\n\n\nCOURSE INCLUSIONS\n\nElleeplex Profusion Lash and Brow Lamination Full Kit  – all items used to perform both services with over 30 applications per kit. \n\nElleeplex Brow Lamination Manual\nDoe Foot Applicators\nElleebana White Brow Henna Pencil\nPrecision Brow Light Ash Brown Pencil\nPrecision Brow Deep Warm Brown Pencil\nPrecision Brow Dark Ash Brown Pencil\nMascara Wands\nElleebana Wonder-wands\nElleebana Stationery Pack\nCertificate upon completion of successful submission of case studies\nAccess to your trainer’s full tinting products and the Elleeplex Profusion Tinting range for trial on your models\n\n\n\n\n\nWant more information? Fill Out The Form Below 
URL:https://www.efbdirect.com.au/shop/event/elleebana-brow-lamination-training-4/
LOCATION:EFB Salon Supplies / Absolute Spa Training Room #1\, 112 Northgate Dr\, Thomastown\, vic\, 3074\, Australia
CATEGORIES:Brow Lamination
ATTACH;FMTTYPE=image/jpeg:https://www.efbdirect.com.au/shop/wp-content/uploads/2023/05/TRAINING_BANNERS_ELLEEBANA_BLAM.jpg
END:VEVENT
BEGIN:VEVENT
DTSTART;TZID=Australia/Melbourne:20230822T093000
DTEND;TZID=Australia/Melbourne:20230822T163000
DTSTAMP:20260422T015303
CREATED:20230519T040028Z
LAST-MODIFIED:20230519T040944Z
UID:69972-1692696600-1692721800@www.efbdirect.com.au
SUMMARY:Elleebana Profusion Lash Lamination Training
DESCRIPTION:COURSE OVERVIEW\n\nElleeplex Profusion Lash Lamination treatment by Elleebana is undeniably one of the industry’s most talked about releases into the lash world.The Lash Lamination service using the Elleeplex Profusion system is providing the same incredible results as an Elleebana Lash Lift but is a Thioglycolic Acid Free\, Sodium Bromate Free\, Vegan\, and Cruelty free system that is gentle while remaining incredibly effective. \nThe incorporation of the ReGEN Next Gen product line into the processing steps of this service has been a revolutionary phase created by Cosmetic Chemist and Director of Elleebana Global\, Otto Mitter.  This course arms you with the detailed concept of lash lamination as well as the hidden tips to mastering your technique to achieve perfect results each and every time and comes to you after two years of clinical trials and development. \nOur theory session commences with product knowledge and understanding of the delicate area that you are working with\, contraindications and how to consult for this treatment. \nYou are guided through the cost and income potential of a lash lamination service to build your marketability. Our hand selected trainer will then demonstrate to you a lash lamination to you in detail – we take our time walking through the treatment step by step\, showcasing the common mistakes made and how to correct these errors to ensure your results are flawless and to build your confidence. \nYou will then work on a model under the careful guidance and instruction of our trainer\, paying close attention to the key elements of lash lamination.  No longer can you expect a one day class with Elleeplex Profusion Lash Lamination as your course\, knowledge retention and applying your new found skills will continue through your online component of the Elleeplex Profusion Lash Lamination training program. \nThe online component will consist of an exam followed by submission of before and after images for assessment.These will be due after your training date\, to further ensure you have been able to retain and apply your new found skills. \n\n\n\nTOPICS WE COVER\n\n\nThe science of lash lamination\, active ingredients and the ingredient trends we are seeing\nAdhesives and myth busting tips on adhesives as well as exposure to the variety of adhesives on the market\nStorage guidance and tips\nEye and eyelash anatomy and structure\nBusiness\, room set up and cleanliness\nLamination and hair removal\nLamination and colouring hair\nHealth\, safety and sanitation – for your clients and for yourself\nCleaning your tools and equipment\nPre-procedure preparations and contra-indications\nProduct information and usage for the products\nConsultation\, reactions and the importance of indemnity and legal requirements such as insurance\nPatch testing for lamination and tinting with Elleeplex Profusion lash and brow tinting range\nEye shapes and face considerations and key tips to craft the perfect lift for your client\nCost of treatment and income potential\nLash Lamination process and step-by-step procedure\nReGEN hydration phase incorporation into your Lash Lamination services\nLash tinting procedure with the Elleeplex Profusion System\nAftercare advice and Homecare products\n\nFrequently asked Questions & Important notes \n\nHow to take good before/after images\nCase Study submissions explained\nLash Competitions and considerations to help you build your business beyond your competition\n\n\n\n\nCOURSE PRICE\n\n$450 Inclusive of GST \n$150 non-refundable booking fee applies and is included in the above-mentioned price and full payment is required to secure your position at a class. \n\n\n\nCOURSE INCLUSIONS\n\n\nElleeplex Pro Full Kit  (30 Lift & 30 setting sachets\, combo pack of silicone rods\, lash lifting adhesives\, Elleebana make up remover 30ml\, application brush and a Isolator tool and Elleeplex ReGen Next Gen\nElleeplex Lash Lamination Manual\nElleebana Eye pads\nMicrobrushes\nElleebana drink bottle\nAccess to your trainers Elleeplex Aftercare and Elleevate Aftercare product lines\nAccess to your trainers complete tinting product range to use on your models during the service\nCertificate upon successful completion of case studies\n\n\n\n\nIMPORTANT TIMES\n\nOur Elleeplex Profusion Lash Lamination course has a 9.30am start time but we ask you to arrive at 9:15am (please be prompt) and the class finishes at 4.30pm.  The course then continues outside of the classroom with you submitting 5 case studies to your Elleebana Master Trainer via email to be assessed based on everything you have learnt throughout the course. These images must be submitted within 3 months of attending your class. Our trainers have a lot to cover and we are extremely passionate about you getting the most from this class so please be prepared and attentive. We have a great cafe right next door for fresh lunch options however you are also welcome to bring your own (kitchen facilities are available). We also have an easily accessible car park for you. \n  \n\n\n\nMODEL REQUIRED\n\nWe follow a program structure where students in this course will work-on-each-other during the afternoon’s practical element of the hands-on training.   Should you have lash extensions on\, be contraindicated or you have had a lash lift in the last 8 weeks then we would need to request that you bring a model. You may also be required to arrange a model if there is an odd number of students booked. \nTo confirm your specific model requirements for attending the course please speak further with EFB Staff.  Sourcing an ideal model for your training will certainly set you off on the right track. \nClick here to view the contraindications \n\n\n\nIMPORTANT NOTES\n\nWe offer this course with over 25 years’ experience offering lash and brow services. The Elleeplex Lash Lamination treatment is an exciting service to offer in your salon.  If you have previously trained with another brand you might find some similarities between the treatment but we ask that you are willing to re-learn what you might know as our comprehensive Elleeplex Lash Lamination Course is assured to offer a more comprehensive understanding of the lash lamination treatment than ever before. We don’t leave you to your own devices and guide you through your treatment carefully perfecting your techniques and understanding of the treatment – you are welcome to call and contact us after your day of training with any questions that you might have\, feedback of any kind and the correspondence continues as you submit your before and after images for assessment. \nPlease note:\n1. $150 non-refundable booking fee applies for each individual cancellation or no show.\n2. Full payment is required to secure a student’s position at a course.\n3. Student numbers are to be confirmed 2 Fridays prior to your training date and may determine if a class proceeds or not.\n4. We reserve the right to withhold issuing of a certificate until competency has been achieved.\n5. We request that if you are feeling unwell or have COVID19 symptoms to speak with your Booking Agent and reschedule your training.\n6. Filming is not permitted in the course. If a student repeatedly ignores this or any other directive from the trainer\, they may be asked to leave the class.
URL:https://www.efbdirect.com.au/shop/event/elleebana-profusion-lash-lamination-training/
LOCATION:EFB Salon Supplies / Absolute Spa Training Room #1\, 112 Northgate Dr\, Thomastown\, vic\, 3074\, Australia
CATEGORIES:Lash Lift
ATTACH;FMTTYPE=image/jpeg:https://www.efbdirect.com.au/shop/wp-content/uploads/2023/05/TRAINING_BANNERS_ELLEEBANA_LASHLAM-2.jpg
END:VEVENT
END:VCALENDAR