BEGIN:VCALENDAR
VERSION:2.0
PRODID:-//EFB Salon Supplies - Absolute Spa - ECPv6.2.4//NONSGML v1.0//EN
CALSCALE:GREGORIAN
METHOD:PUBLISH
X-WR-CALNAME:EFB Salon Supplies - Absolute Spa
X-ORIGINAL-URL:https://www.efbdirect.com.au/shop
X-WR-CALDESC:Events for EFB Salon Supplies - Absolute Spa
REFRESH-INTERVAL;VALUE=DURATION:PT1H
X-Robots-Tag:noindex
X-PUBLISHED-TTL:PT1H
BEGIN:VTIMEZONE
TZID:Australia/Melbourne
BEGIN:STANDARD
TZOFFSETFROM:+1100
TZOFFSETTO:+1000
TZNAME:AEST
DTSTART:20220402T160000
END:STANDARD
BEGIN:DAYLIGHT
TZOFFSETFROM:+1000
TZOFFSETTO:+1100
TZNAME:AEDT
DTSTART:20221001T160000
END:DAYLIGHT
END:VTIMEZONE
BEGIN:VEVENT
DTSTART;TZID=Australia/Melbourne:20221003T093000
DTEND;TZID=Australia/Melbourne:20221003T163000
DTSTAMP:20260422T165735
CREATED:20220915T014250Z
LAST-MODIFIED:20220915T014250Z
UID:65114-1664789400-1664814600@www.efbdirect.com.au
SUMMARY:Elleebana Lash Lift Training
DESCRIPTION:Course Overview:\nWelcome to the world of multi award winning Elleebana Lash Lift education. Elleebana is the world’s most popular lash lift and lamination system\, globally recognised and trusted by leading experts in over 60 countries. Our education program has been crafted by our award winning team\, bringing you over 20 years combined experience in the lash and brow industry. Otto Mitter\, managing director of Elleebana is a regular speaker and competition judge on the global circuit for eyelash extensions and lift/lamination competitions\, conferences and exhibitions. At Elleebana we thrive on sharing our experience and expertise with our students and over the years Elleebana has helped to create the next generation of beauty influencers and leaders in the lash industry. \nYou are guided through the cost and income potential of lash lifting to build your marketability. Our hand selected trainer will then demonstrate to you a lash lift in detail – we take our time walking through the treatment step by step and showcasing the common mistakes made and how to correct these errors to ensure your results are flawless and to build your confidence. \nYou will then work on a model under the careful guidance and instruction of our trainer paying close attention to the key elements of lash lifting. No longer can you expect a one day class with Elleebana as your course\, knowledge retention and applying your new found skills will continue through your online component of this educational program.  The online component will be comprised of an exam and submission of before and after images for assessment after your training date to further ensure you have been able to retain and apply your new found skills.\n\n\nTopics we cover:\n\n\nScience of lash lifting\, active ingredients and the ingredient trends we are seeing\nExposure to the various adhesives available\nStorage guidance and tips\nEye and Eyelash anatomy and structure\nBusiness\, room set up and cleanliness\nClient/technician wellbeing and self-care\nProcedure knowledge and detailed instructions\nHealth\, safety and sanitation – for your clients and for yourself\nPre-procedure preparations and contra-indications\nProduct information and usage and storage guides for the products\nConsultation\, reactions and the importance of indemnity and legal requirements such as insurance\nPatch testing and tinting with Belmacil lash and brow tints\nEye shapes and face considerations and key tips to craft the perfect lift for your client\nCost of treatment and income potential\nElleebana facial Acupressure for a new approach to client treatments\nFrequently asked questions\nReversed and relaxed treatments as well as lower lash care\nHomecare advise and recommended aftercare\nTaking a good before and after images\nFrequently asked questions and trainers tips/important notes\nCase Study submissions explained\nCompetitions for building your business\nCriteria Checklist form\n\n\n\n\nCourse price:\n $320 Inclusive of GST$150 non-refundable booking fee applies and is included in the above-mentioned price and full payment is required to secure your position at a class.\n\n\nCourse inclusions:\nA Full sized lash lifting kit valued at $170 with a minimum of 30 applications. You also receive a pack of eye pads valued at $12\, and a pack of micro brushes valued at $21.95\, instructional copyrighted manual\, criteria checklist\, students exam\, access to promotional flyers file\, promotional images and a posters for printing and a certificate upon submission of a minimum of 5 before and after images that are successful.\n\n\nImportant times:\nOur lash lifting class begins at 9:30am and finishes at 4:30pm on your first day however your course continues after you leave with an online component. You will have three months to submit your online exam and before and after images for assessment. We have a lot to cover and we are extremely passionate about you getting the most from this class so please be prepared and bring a packed lunch or snacks.\n\n\nModel required:\nDepending on the class size you might be required to provide a model. If the class has even numbers of attendees then the class can work on each other however this will be determined by your trainer and the staff at EFB. If you are required to have the treatment performed on you\, please arrive with no eye makeup and ensure you are not contraindicated for this treatment.\nClick here to view the contraindications\n\n\nImportant notes:\nWe offer this course with over 25 years’ experience offering lash and brow services. The Elleebana lash lift treatment is one of the fastest on the market and so if you have previously trained with another brand you might find some similarities between the treatment but we ask that you are willing to re-learn what you might know as our comprehensive Lash Lifting Evolved 2020 Class is assured to offer more understanding of lash lifting treatments than ever before. We don’t leave you to your own devices and guide you through your treatment carefully perfecting your techniques and understanding of the treatment – you are welcome to call and contact us after your day of training with any questions that you might have\, feedback of any kind and the correspondence continues as you submit your before and after images for assessment.
URL:https://www.efbdirect.com.au/shop/event/elleebana-lash-lift-training/
LOCATION:EFB Salon Supplies / Absolute Spa Training Room #1\, 112 Northgate Dr\, Thomastown\, vic\, 3074\, Australia
CATEGORIES:Lash Lift
ATTACH;FMTTYPE=image/png:https://www.efbdirect.com.au/shop/wp-content/uploads/2019/12/Lash-Lift-banner.png
END:VEVENT
BEGIN:VEVENT
DTSTART;TZID=Australia/Melbourne:20221010T093000
DTEND;TZID=Australia/Melbourne:20221010T163000
DTSTAMP:20260422T165735
CREATED:20220915T014954Z
LAST-MODIFIED:20220915T021617Z
UID:65116-1665394200-1665419400@www.efbdirect.com.au
SUMMARY:Elleebana Beginners Classic Lash Extensions Training
DESCRIPTION:Click Here to Download Information Brochure\n  \n\n\n\n\nCourse Overview:\n\n\nElleebana’s Classic Lash Extensions Foundation Course arms you with excellent fundamental core lashing skills. Our class is designed to deliver the essential techniques for safe applications of lash extensions as we guide you from your first day of training physically and then into your assessment and further supportive video links virtually. Our theory session commences with the elements required to give you a firm foundation and understanding of what is required for you to begin offering safe classic lash extensions applications.\nYou are guided through mannequin applications first to help build your confidence\, co-ordination\, hone in on your glue control and lash direction then our handpicked and passionate trainers follow you\, support you and aide you while you begin your first lashing experience on your model.\nUpon completion of your first day you are required to know and demonstrate all techniques from our criteria form and are tested on your knowledge retention with a quiz. We then ask you to practise and submit your before and after images for assessment and careful guidance before you are issued your certificate.\n\n\n\n\nTopics we cover:\n\n\nKNOWLEDGE:\n\n\nLearn how to offer safe lash extensions treatments\n\n\nLearn the difference between lashes – sizes\, shapes and styles\n\n\nUnderstand lash extensions adhesives and the chemistry of these products\n\n\nGain knowledge on lash pH and how primers and lash prep products effect results\n\n\nCorrect lash consultation procedures\n\n\nCorrect aftercare for your client’s lashes\n\n\nLash styling that is complimentary for your clients\n\n\nSKILL:\n\n\nHow to create a natural classic lash extension application\n\n\nIdentify client’s eye shapes\n\n\nCreate visual differences to the shape of the eye from basic lash styling\n\n\nLash with confidence\n\n\nLash mapping\n\n\nEye proportions\n\n\nLearn how to perform infills\n\n\nLash methodically and build your speed and technique as well as understand how to practise your skills even without a model\n\n\nApply lashes using varied styles\n\n\nCreate symmetry\n\n\nHow to safely remove lash extensions\n\n\nBUSINESS:\n\n\nLearn about your income potential when offering lash extensions\n\n\nPotential profit from your Elleebana lash extensions kit is $11\,550 and how the contents breakdown is made\n\n\nAdhere to your local regulations for safety and sanitation\n\n\nUnderstand how to correctly troubleshoot with your clients\n\n\nLearn how to gain your certificate and credibility for your skill\n\n\n\n\n\n\nCourse price:\n\n\n$500 Inclusive of GST\n$150 non-refundable booking fee applies and is included in the above-mentioned price and full payment is required to secure your position at a class.\n\n\n\n\nCourse Inclusions:\n\n\nFull sized Elleebana Lash Extensions Kit valued at $450. Over 9000 lash extensions in curls\, lengths and thicknesses that you will use. This kit will enable you to offer around 100 applications of lash extensions (with the exception of the adhesive if this is not used within the expiry). You will also receive an instructional copyrighted manual\, a criteria checklist to review your new found skills and to be assessed on your skills by your trainer\, a fund lash quiz\, access to promotional flyers\, promotional images and a promotional poster all on a virtual file for printing or use on your social pages and finally your certificate upon submission of a minimum of 5 before and after images that are successful.\n\n\n\n\nImportant times:\n\n\nOur lash extensions class begins at 9:30am and finishes at 4:45pm on day one. You then will have three months to submit your before and after images for assessment. Lunch breaks from 12:45pm – 1:15pm with a tea and toilet break at 11:00am for 15 minutes only. We have a lot to cover and we are extremely passionate about you getting the most from this class so please be prepared and bring a packed lunch or alternatively we have a great café right next door\n\n\n\n\nModel required:\n\n\nYou are required to provide your own model at 1:15pm through till 4pm.\nClick here to view the contraindications\n\n\n\n\nImportant notes:\n\n\nWe offer this course as a beginners course so that you can experience and be guided in your first lashing experience. We don’t leave you to your own devices after that first day – you are welcome to call and contact us after your day of training with any questions that you might have and the correspondence continues as you submit your before and after images for assessment.\n\n\n\n\nPlease Note:\n\n\n1. $150 non-refundable Booking Fee applies for each individual cancellation OR no show\n2. Full payment is required to secure a student’s position at a course.\n3. We reserve the right to withhold issuing of a certificate until competency has been achieved\n4. We request that if you are feeling unwell or have COVID19 symptoms to contact us and reschedule your training.
URL:https://www.efbdirect.com.au/shop/event/elleebana-beginners-classic-lash-extensions-training/
LOCATION:EFB Salon Supplies / Absolute Spa Training Room #1\, 112 Northgate Dr\, Thomastown\, vic\, 3074\, Australia
CATEGORIES:Lash Extensions
ATTACH;FMTTYPE=image/png:https://www.efbdirect.com.au/shop/wp-content/uploads/2019/06/elleebana-lash-extensions-banner-new.png
END:VEVENT
BEGIN:VEVENT
DTSTART;TZID=Australia/Melbourne:20221017T093000
DTEND;TZID=Australia/Melbourne:20221017T163000
DTSTAMP:20260422T165736
CREATED:20220524T054400Z
LAST-MODIFIED:20220915T021840Z
UID:63154-1665999000-1666024200@www.efbdirect.com.au
SUMMARY:Elleeplex Profusion Brow Lamination Course
DESCRIPTION:Click Here To Download Information\n  \n\n\n\n\nCourse Overview:\n\n\nBrow Lamination is fast becoming one of the hottest trends in the beauty industry and Elleeplex Profusion is a highly sort after product line due to the quality and benefits of the product.  The brow lamination service gives the appearance of fuller eyebrows that are more easily shaped or corrected into brows that clients LOVE.\nThis course arms you with the detailed concept of brow lamination as well as the hidden tips to mastering your technique to achieve perfect results each and every time.\nOur theory session commences with product knowledge and understanding of the delicate area that you are working with\, contraindications and how to consult for this treatment.\nYou are guided through the cost and income potential of brow lamination to build your marketability. Our hand selected trainer will then demonstrate a brow lamination service – we take our time walking through the treatment step by step and showcasing the common mistakes made and how to correct these errors to ensure your results are flawless and to build your confidence.\nYou will then work on two models under the careful guidance and instruction of our trainer paying close attention to the key elements of brow lamination.  Your day of learning will be summarised with an exam before the at home portion of your learning begins.  Submissions of before and after images for assessment after your training date are required to further ensure you have been able to retain and apply your new found skills with confidence.\n\n\n\n\nTopics we cover:\n\n\n\n\nScience of brow lamination\, active ingredients and the ingredient trends we are seeing\n\n\nAdhesives and myth busting tips on adhesives used during the brow lamination service\n\n\nStorage guidance and tips\n\n\nHair Structure and Skin Anatomy\n\n\nLamination and hair removal\n\n\nLamination and colouring hair\n\n\nHealth\, safety and sanitation – for your clients and for yourself\n\n\nCleaning your tools and equipment\n\n\nPre-procedure preparations and contra-indications\n\n\nProduct information and usage and storage guides for the products\n\n\nConsultation\, reactions and the importance of indemnity and legal requirements such as insurance\n\n\nPatch testing for lamination and tinting with Elleeplex Profusion lash and brow tinting range\n\n\nUnderstanding eyebrow shapes\n\n\nDissection of the brow\n\n\nFace shape and brow design\n\n\nCost of treatment and income potential\n\n\nBrow Lamination process and step-by-step procedure\n\n\nReGEN hydration phase incorporation into your Brow Lamination services\n\n\nBrow tinting procedure with the Elleeplex Profusion system\n\n\nAftercare advice and Homecare products\n\n\nFrequently asked questions / important notes\n\n\nHow to take good before/after images\n\n\nCase study submissions explained\n\n\n\n\n\n\nCourse price:\n\n\n$375 Inclusive of GST$150 non-refundable booking fee applies and is included in the above-mentioned price and full payment is required to secure your position at a class.\n\n\n\n\nCourse inclusions:\n\n\n\n\nElleeplex Profusion Lash and Brow Lamination Full Kit  – all items used to perform both services with over 30 applications per kit.\n\n\nElleeplex Brow Lamination Manual\n\n\nDoe Foot Applicators\n\n\nElleebana White Brow Henna Pencil\n\n\nPrecision Brow Light Ash Brown Pencil\n\n\nPrecision Brow Deep Warm Brown Pencil\n\n\nPrecision Brow Dark Ash Brown Pencil\n\n\nMascara Wands\n\n\nElleebana Wonder-wands\n\n\nElleebana Stationery Pack\n\n\nCertificate upon completion of successful submission of case studies\n\n\nAccess to your trainer’s full tinting products and the Elleeplex Profusion Tinting range for trial on your models.\n\n\n\n\n\n\nImportant times:\n\n\nOur Elleeplex Profusion Brow Lamination course has a 9.30am start time but we ask you to arrive at 9:15am (please be prompt) and the class finishes at 4.30pm.  The course then continues outside of the classroom with you submitting 5 case studies to your Elleebana Master Trainer via email for assessment based on everything you have learnt throughout the course. These images must be submitted within 3 months of attending your class. We break at 12:15pm for a 30min lunch.  Our trainers have a lot to cover and we are extremely passionate about you getting the most from this class so please be prepared and attentive.  We strongly recommend you bring a packed lunch or snacks and you have checked traffic and parking information at your training venue prior to the training day.\n\n\n\n\nModel required:\n\n\nWe follow a program structure where students in this course will work on two models during the afternoon’s practical element of the hands-on training.   Should your models be contraindicated or have previously had a brow lamination\, brow henna service or brow tint in the past 6 weeks then they are not suitable to be your model for the class.\nChoosing reliable and prompt models for your class will help your learning experience.\nThe first round of models is required at 12:45pm and the second round is required at 2pm.\nTo confirm your specific model requirements for attending the course please speak further with your Booking Agent.  Sourcing an ideal model for your training will certainly set you off on the right track.\nClick here to view the contraindications\n\n\n\n\nImportant notes:\n\n\nWe offer this course with over 25 years’ experience offering lash and brow services. The Elleeplex Profusion Brow Lamination treatment is an exciting service to offer in your salon.  If you have previously trained with another brand you might find some similarities between the treatment but we ask that you are willing to re-learn what you might know as our comprehensive Elleeplex Profusion Brow Lamination Course is assured to offer a more comprehensive understanding of the brow lamination treatment than ever before. We don’t leave you to your own devices and guide you through your treatments carefully on the day\, perfecting your techniques and understanding of the treatment – you are welcome to contact us after your day of training with any questions that you might have\, feedback of any kind and the correspondence continues as you submit your before and after images for assessment.
URL:https://www.efbdirect.com.au/shop/event/elleeplex-profusion-brow-lamination-course-2/
LOCATION:EFB Salon Supplies / Absolute Spa Training Room #1\, 112 Northgate Dr\, Thomastown\, vic\, 3074\, Australia
CATEGORIES:Brow Lamination
END:VEVENT
BEGIN:VEVENT
DTSTART;TZID=Australia/Melbourne:20221024T093000
DTEND;TZID=Australia/Melbourne:20221024T163000
DTSTAMP:20260422T165736
CREATED:20220915T022109Z
LAST-MODIFIED:20221005T023350Z
UID:65124-1666603800-1666629000@www.efbdirect.com.au
SUMMARY:Elleebana Brow Henna Training
DESCRIPTION:Click Here to Download Information Brochure\n  \n  \n\n\n\n\nCourse Overview:\n\n\nThe Elleebana Brow Henna Online Course has been developed as an introduction to colour craft and brow formation allowing you to create fuller\, thicker and more defined brows for your clients.  Requiring no Hydrogen Peroxide to process and being Ammonia free\, Elleebana’s Brow Henna has been carefully developed to include unique ingredients such as Indigo Powder\, Indian Gooseberry and Acacia Concinna for added lustre and shine and to encourage healthy brow growth\nOur course is a full-day course\, loaded with comprehensive theory providing myth busting information and in-depth detail of the industry’s hottest topics together and exclusive Elleebana techniques not readily showcased in other training.\nDuring your two (2) guided brow henna applications you will be assessed on your clients skin tone assessments\, hair colour assessments and shape perfecting skills. This application of your understanding to the practical side is a key element in our assessment phase to ensure you leave with the best possible knowledge retention and ability to boost your brow business like never before.\n\n\n\n\nTopics we cover:\n\n\n\n\nWhat is Henna\n\n\nHow henna is different to tinting\n\n\nWhat’s the profitability and how you should price your treatments\n\n\nIngredients knowledge\n\n\nStorage and care\n\n\nSkin Anatomy and how the skin is relevant to Brow Henna\n\n\nHair Structure\n\n\nHygiene and Sanitation\n\n\nContraindications\n\n\nIndemnity forms and patch testing\n\n\nColour mixing and processing\n\n\nSkin tone and hair assessments (both theory and practical)\n\n\nColour customising\n\n\nFace and Brow Shape as well as key measurements to assist in understanding what’s right for your client\n\n\nBrow mapping\n\n\nProcedures and aftercare advise\n\n\nCriteria checklists and sign offs for your certificate issue (students will be receiving their certificate on the day of training)\n\n\n\n\n\n\nCourse price:\n\n\n$500 Inclusive of GST\n\n\n\n\nCourse inclusions:\n\n\nThis course delivers an array\, up to date information and detailed content for achieving amazing results\, and gaining product and service knowledge\, with the addition of digital DL flyers and after-care flyers to help promote your services.\nStudents will also receive:\n\n\nA Full sized kit valued at $295 – a total of 500 applications (5 colours with approximately 100 applications each) and potential profit of over $22\,500 to a salon from this kit! WOWSERS!!\n\n\nElleebana Brow Measuring tape (25 pack) and a set of Elleebana Precision Brow Pencils ( 1 x Light Ash Brown\, 1 x Dark Ash Brown\, 1 x Deep Warm Brown).\n\n\nThe comprehensive Elleebana Brow Henna education manual and stationery pack.\n\n\nThe salon’s details listed on our Salon Finder page on our website as a salon who performs Elleebana Brow Henna treatments to help direct customers your way.\n\n\nAccess to our Master Educators for continued support and guidance post course completion.\n\n\nElleebana Brow Henna Certificate of Completion.\n\n\n\n\n\n\nImportant times:\n\n\nOur Elleebana Brow Henna Course begins at 9:30am and finishes at 4pm. Lunch breaks from 1.15pm – 1:45pm.  There is a lot of content to cover in this course and we recommend students to bring their own lunch if cafes to purchase are not in the immediate area. Times for the class structure will be strictly followed.\n\n\n\n\nModel required:\n\n\n\n\n\nStudents are required to provide two (2) models. The first at 1.45pm – 2.45pm and the second at 2:45pm – 3.45pm.\n\n\nClick here to view the contraindications\n\n\n\n\nImportant notes:\n\n\nElleebana offers this course with over 25 years’ experience developing lash and brow products and services. Elleebana Brow Henna delivers the ultimate tinting and colouring solution to salon professionals containing some natural ingredients for tinting of eyebrows. The luxurious palette of natural shades can be used individually or mixed together to create the ultimate brow colour match for your client. Easy to use\, simply mix Elleebana Brow Henna with our formulated Aqua to create the complimentary shade with no need for Hydrogen Peroxide.\nElleebana’s innovative formula helps to strengthen hair\, restore growth and the natural shape of the eyebrows. We don’t leave you to your own devices and are available to guide you through your treatments carefully\, being sure to perfect your techniques and understanding – you are welcome to call and contact your educator after your day of training with any questions that you might have or feedback of any kind.\nIf you have previously trained with another brand you might find some similarities between the treatment\, however\, there can be major differences between brands and formulations and training with our brand will be highly recommended to maximise your ability of achieving optimal results.
URL:https://www.efbdirect.com.au/shop/event/elleebana-brow-henna-training-18/
LOCATION:EFB Salon Supplies / Absolute Spa Training Room #1\, 112 Northgate Dr\, Thomastown\, vic\, 3074\, Australia
CATEGORIES:Henna Brows
ATTACH;FMTTYPE=image/jpeg:https://www.efbdirect.com.au/shop/wp-content/uploads/2021/01/qQOhXPENReWYGE1KC9cg_Henna2-WebBanner-1375x400-1.jpg
END:VEVENT
END:VCALENDAR