BEGIN:VCALENDAR
VERSION:2.0
PRODID:-//EFB Salon Supplies - Absolute Spa - ECPv6.2.4//NONSGML v1.0//EN
CALSCALE:GREGORIAN
METHOD:PUBLISH
X-ORIGINAL-URL:https://www.efbdirect.com.au/shop
X-WR-CALDESC:Events for EFB Salon Supplies - Absolute Spa
REFRESH-INTERVAL;VALUE=DURATION:PT1H
X-Robots-Tag:noindex
X-PUBLISHED-TTL:PT1H
BEGIN:VTIMEZONE
TZID:Australia/Melbourne
BEGIN:STANDARD
TZOFFSETFROM:+1100
TZOFFSETTO:+1000
TZNAME:AEST
DTSTART:20210403T160000
END:STANDARD
BEGIN:DAYLIGHT
TZOFFSETFROM:+1000
TZOFFSETTO:+1100
TZNAME:AEDT
DTSTART:20211002T160000
END:DAYLIGHT
END:VTIMEZONE
BEGIN:VEVENT
DTSTART;TZID=Australia/Melbourne:20210301T093000
DTEND;TZID=Australia/Melbourne:20210301T163000
DTSTAMP:20260424T075717
CREATED:20210113T234418Z
LAST-MODIFIED:20210113T234418Z
UID:54232-1614591000-1614616200@www.efbdirect.com.au
SUMMARY:Elleebana Lash Lift Evolved Training
DESCRIPTION:Lash Lift Class runs from 9.30 – 4.30 (please note the class may finish early depending on amount of students in the class). No model is required\, you will be working on each other so please attend with no false lashes.\nThe class is $320 and includes the kit\, training workbook and posters/marketing flyers.\n\nThe kit includes:\n\n\n30 perm & 30 neutraliser sachets\nCombo pack of Silicone Rods\nLash Perming Glue\nBelma Remove\nApplication brush\nStainless steel lash lifter\nCollagen Eye Pads\nMicroBrushes\n\n\n\nThe class overview is as follows:\n\n\nEye and Eyelash anatomy and structure\nBusiness and room set up\nHealth\, safety and sanitation – for your clients and for yourself\nPre-procedure preparations and contra-indications\nProduct information and usage and storage guides for the products\nConsultation and the importance of indemnity and legal requirements\nPatch testing and tinting with Belmacil lash and brow tints\nCost of treatment and income potential\nDetailed procedure\nHomecare advise\nWhen things go wrong – and how to fix them\nFrequently asked questions\nCase Study submissions\nCriteria Checklist form\n\nClick here for a quick link to our online store to reserve your place
URL:https://www.efbdirect.com.au/shop/event/elleebana-lash-lift-evolved-training-13/
LOCATION:EFB Salon Supplies / Absolute Spa Training Room #2\, 112 Northgate Dr\, Thomastown\, vic\, 3074\, Australia
CATEGORIES:Lash Lift
ATTACH;FMTTYPE=image/png:https://www.efbdirect.com.au/shop/wp-content/uploads/2021/01/YofY3YoMS6yZoquuKVMP_Screen_Shot_2018-09-20_at_1.57.35_pm.png
END:VEVENT
BEGIN:VEVENT
DTSTART;TZID=Australia/Melbourne:20210315T093000
DTEND;TZID=Australia/Melbourne:20210315T160000
DTSTAMP:20260424T075717
CREATED:20210113T235229Z
LAST-MODIFIED:20210113T235229Z
UID:54242-1615800600-1615824000@www.efbdirect.com.au
SUMMARY:Elleebana Brow Henna Training
DESCRIPTION:Elleebana Brow Henna is an all day class running from 9.30am – 4:00pm. \n\n2 models are required for you to work on at 1.45pm & 2:45pm. It is your responsibility to source your own model\, however if you a struggling please advise us no later than the Monday before and we can try our best to find you a model (we can’t guarantee to find you a model).\nThe cost for you to do this class is $500\, and that does include a kit (worth $372)\, a training work book and a poster/marketing flyers.\n\n\nThe Kit Includes:\n\nContains one of each colour in the range (7 colours)\n1 x PH Activator\n1 x Brow shampoo\n1 X White Brow Pencil\n1 x Cup\n1 x Mixing tool\n5 x Mixing sticks\n1 x Angle eyebrow brush\n50 x Doe foot/angled lip brush applicators\n50 x Flyers\n1 x 30ml make up remover\nhenna box\n\nClass Overview:\n\n\nWhat is Henna\nHow henna is different to tinting\nWhat’s the profitability and how you should price your treatments\nIngredients knowledge\nStorage and care\nSkin Anatomy and how the skin is relevant to Brow Henna\nHair Structure\nHygiene and Sanitation\nContraindications\nIndemnity forms and patch testing\nColour mixing and processing\nSkin tone and hair assessments (both theory and practical)\nColour customising\nFace and Brow Shape as well as key measurements to assist in understanding what’s right for your client\nBrow mapping\nProcedures and aftercare advise\nCriteria checklists and sign offs for your certificate issue (students will be receiving their certificate on the day of training)\n\nClick here for a quick link to our online store to reserve your place
URL:https://www.efbdirect.com.au/shop/event/elleebana-brow-henna-training-11/
LOCATION:EFB Salon Supplies / Absolute Spa Training Room #2\, 112 Northgate Dr\, Thomastown\, vic\, 3074\, Australia
CATEGORIES:Henna Brows
ATTACH;FMTTYPE=image/jpeg:https://www.efbdirect.com.au/shop/wp-content/uploads/2021/01/qQOhXPENReWYGE1KC9cg_Henna2-WebBanner-1375x400-1.jpg
END:VEVENT
BEGIN:VEVENT
DTSTART;TZID=Australia/Melbourne:20210329T093000
DTEND;TZID=Australia/Melbourne:20210329T163000
DTSTAMP:20260424T075717
CREATED:20210114T000252Z
LAST-MODIFIED:20210114T000252Z
UID:54252-1617010200-1617035400@www.efbdirect.com.au
SUMMARY:Elleebana Beginners Lash Extensions Training
DESCRIPTION:Elleebana Lash Extensions Course is an all day class running from 9.30am – 4.30pm. A model is required for you to work on at 1.15pm. It is your responsibility to source your own model\, however if you a struggling please advise us no later than the Monday before and we can try our best to find you a model (we can’t guarantee to find you a model).\nThe cost for you to do this class is $500\, and that does include a kit (worth $450)\, a training work book and a poster/marketing flyers.\nThe kit includes:\n3 x Mink Lash Extension Trays ($35 each)\n2 x Tweezers\n1 x Ultra Bond Adhesive 5ml\n1 x Micropore tape\n1 x Puffer\n1 x Microwands/Microbrushes\n1 x Glue Debonder\n1 x Primer\n10 x Glue Rings\n10 x Disposable Mascara Wands\n5 x Under Eye Patches (Collagen infused)\n1 x Scissors\n1 x Belma Remove\n1 x Poster\nComes all together in a black Elleebana carry bag.\n\n\nThe class outline is as follows\n\nAnatomy of the Eye\nHair Structure\nHealth\, Safety & Hygiene\nContra-indications\nIndemnity\nConsultation\nPatch Testing\nLashes Explained\nAfter care\nRemoval\nIncome Potential\nLash Styling\nProportions\nLash quiz & Criteria Checklist\n\nClick here for a quick link to our online store to reserve your place
URL:https://www.efbdirect.com.au/shop/event/elleebana-beginners-lash-extensions-training-10/
LOCATION:EFB Salon Supplies / Absolute Spa Training Room #2\, 112 Northgate Dr\, Thomastown\, vic\, 3074\, Australia
CATEGORIES:Lash Extensions
ATTACH;FMTTYPE=image/jpeg:https://www.efbdirect.com.au/shop/wp-content/uploads/2021/01/J1sfeq66RjGyMAQSRvwW_collection-attachment_2F3ea39ef5-6f40-48a4-85ee-9f1965d8d826_2F207_2Fattachments_2F198ab3174d6409cdeb30eb6973ea7818WebBanners-1024x576-6__1_.jpg
END:VEVENT
END:VCALENDAR