BEGIN:VCALENDAR
VERSION:2.0
PRODID:-//EFB Salon Supplies - Absolute Spa - ECPv6.2.4//NONSGML v1.0//EN
CALSCALE:GREGORIAN
METHOD:PUBLISH
X-WR-CALNAME:EFB Salon Supplies - Absolute Spa
X-ORIGINAL-URL:https://www.efbdirect.com.au/shop
X-WR-CALDESC:Events for EFB Salon Supplies - Absolute Spa
REFRESH-INTERVAL;VALUE=DURATION:PT1H
X-Robots-Tag:noindex
X-PUBLISHED-TTL:PT1H
BEGIN:VTIMEZONE
TZID:Australia/Melbourne
BEGIN:STANDARD
TZOFFSETFROM:+1100
TZOFFSETTO:+1000
TZNAME:AEST
DTSTART:20180331T160000
END:STANDARD
BEGIN:DAYLIGHT
TZOFFSETFROM:+1000
TZOFFSETTO:+1100
TZNAME:AEDT
DTSTART:20181006T160000
END:DAYLIGHT
END:VTIMEZONE
BEGIN:VEVENT
DTSTART;TZID=Australia/Melbourne:20181210T093000
DTEND;TZID=Australia/Melbourne:20181210T163000
DTSTAMP:20260426T135354
CREATED:20180920T043947Z
LAST-MODIFIED:20180920T044611Z
UID:10972-1544434200-1544459400@www.efbdirect.com.au
SUMMARY:Lash Extension Class
DESCRIPTION:Elleebana Lash Extensions Course is an all day class running from 9.30am – 4.30pm. A model is required for you to work on at 1.15pm. It is your responsibility to source your own model\, however if you a struggling please advise us no later than the Monday before and we can try our best to find you a model (we can’t guarantee to find you a model).\nThe cost for you to do this class is $500\, and that does include a kit (worth $450)\, a training work book and a poster/marketing flyers.\nThe kit includes:\n3 x Mink Lash Extension Trays ($35 each)\n2 x Tweezers\n1 x Ultra Bond Adhesive 5ml\n1 x Micropore tape\n1 x Puffer\n1 x Microwands/Microbrushes\n1 x Glue Debonder\n1 x Primer\n10 x Glue Rings\n10 x Disposable Mascara Wands\n5 x Under Eye Patches (Collagen infused)\n1 x Scissors\n1 x Belma Remove\n1 x Poster\nComes all together in a black Elleebana carry bag.\n\n\nThe class outline is as follows\n\nAnatomy of the Eye\nHair Structure\nHealth\, Safety & Hygiene\nContra-indications\nIndemnity\nConsultation\nPatch Testing\nLashes Explained\nAfter care\nRemoval\nIncome Potential\nLash Styling\nProportions\nLash quiz & Criteria Checklist\n\nClick here for a quick link to our online store to reserve your place
URL:https://www.efbdirect.com.au/shop/event/lash-extension-class/
LOCATION:EFB Salon Supplies / Absolute Spa Training Room #2\, 112 Northgate Dr\, Thomastown\, vic\, 3074\, Australia
CATEGORIES:Lash & Brows,Lash Extensions
ATTACH;FMTTYPE=image/png:https://www.efbdirect.com.au/shop/wp-content/uploads/2018/09/Screen-Shot-2018-09-20-at-2.02.13-pm.png
END:VEVENT
BEGIN:VEVENT
DTSTART;TZID=Australia/Melbourne:20181217T093000
DTEND;TZID=Australia/Melbourne:20181217T160000
DTSTAMP:20260426T135354
CREATED:20180920T043332Z
LAST-MODIFIED:20180920T051637Z
UID:10965-1545039000-1545062400@www.efbdirect.com.au
SUMMARY:Lash Lift Class
DESCRIPTION:Lash Lift Class runs from 9.30 – 4.30 (please note the class may finish early depending on amount of students in the class). A model is required at 12.45pm. It is your responsibility to find your own model\, however if you are struggling please let us know no later than 1 week before the class is running. We cannot guarantee to find you a model.\nThe class is $320 and includes the kit\, training workbook and posters/marketing flyers.\n\nThe kit includes:\n\n\n30 perm & 30 neutraliser sachets\nCombo pack of Silicone Rods\nLash Perming Glue\nBelma Remove\nApplication brush\nStainless steel lash lifter\nCollagen Eye Pads\nMicroBrushes\n\n\n\nThe class overview is as follows:\n\n\nEye and Eyelash anatomy and structure\nBusiness and room set up\nHealth\, safety and sanitation – for your clients and for yourself\nPre-procedure preparations and contra-indications\nProduct information and usage and storage guides for the products\nConsultation and the importance of indemnity and legal requirements\nPatch testing and tinting with Belmacil lash and brow tints\nCost of treatment and income potential\nDetailed procedure\nHomecare advise\nWhen things go wrong – and how to fix them\nFrequently asked questions\nCase Study submissions\nCriteria Checklist form\n\nClick here for a quick link to our online store to reserve your place
URL:https://www.efbdirect.com.au/shop/event/lash-lift-class-4/
LOCATION:EFB Salon Supplies / Absolute Spa Training Room #2\, 112 Northgate Dr\, Thomastown\, vic\, 3074\, Australia
CATEGORIES:Lash & Brows,Lash Lift
END:VEVENT
END:VCALENDAR